BEGIN:VCALENDAR
VERSION:2.0
PRODID:-//JADECARE - ECPv6.15.20//NONSGML v1.0//EN
CALSCALE:GREGORIAN
METHOD:PUBLISH
X-WR-CALNAME:JADECARE
X-ORIGINAL-URL:https://jadeclone.med-ip.eu
X-WR-CALDESC:Events for JADECARE
REFRESH-INTERVAL;VALUE=DURATION:PT1H
X-Robots-Tag:noindex
X-PUBLISHED-TTL:PT1H
BEGIN:VTIMEZONE
TZID:Europe/Berlin
BEGIN:DAYLIGHT
TZOFFSETFROM:+0100
TZOFFSETTO:+0200
TZNAME:CEST
DTSTART:20210328T010000
END:DAYLIGHT
BEGIN:STANDARD
TZOFFSETFROM:+0200
TZOFFSETTO:+0100
TZNAME:CET
DTSTART:20211031T010000
END:STANDARD
BEGIN:DAYLIGHT
TZOFFSETFROM:+0100
TZOFFSETTO:+0200
TZNAME:CEST
DTSTART:20220327T010000
END:DAYLIGHT
BEGIN:STANDARD
TZOFFSETFROM:+0200
TZOFFSETTO:+0100
TZNAME:CET
DTSTART:20221030T010000
END:STANDARD
BEGIN:DAYLIGHT
TZOFFSETFROM:+0100
TZOFFSETTO:+0200
TZNAME:CEST
DTSTART:20230326T010000
END:DAYLIGHT
BEGIN:STANDARD
TZOFFSETFROM:+0200
TZOFFSETTO:+0100
TZNAME:CET
DTSTART:20231029T010000
END:STANDARD
BEGIN:DAYLIGHT
TZOFFSETFROM:+0100
TZOFFSETTO:+0200
TZNAME:CEST
DTSTART:20240331T010000
END:DAYLIGHT
BEGIN:STANDARD
TZOFFSETFROM:+0200
TZOFFSETTO:+0100
TZNAME:CET
DTSTART:20241027T010000
END:STANDARD
END:VTIMEZONE
BEGIN:VEVENT
DTSTART;TZID=Europe/Berlin:20230425T100000
DTEND;TZID=Europe/Berlin:20230427T160000
DTSTAMP:20260422T232023
CREATED:20230117T112533Z
LAST-MODIFIED:20230309T100243Z
UID:4439-1682416800-1682611200@jadeclone.med-ip.eu
SUMMARY:DMEA 2023 - Connecting Digital Health
DESCRIPTION:Europe’s leading event for Digital Health – See you in 2023 \nDMEA is one of Europe’s most important digital health conference and trade fair. Once a year\, experts from the digital health industry meet for three days in Berlin. In addition to a comprehensive market overview\, DMEA offers all stakeholders a wide range of opportunities for intensive exchange\, targeted networking and effective customer acquisition as well as science insights into whats new and upcoming in digital health care. \nWhat moves health IT today and tomorrow? DMEA 2023 aims to provide answers to this question with its extensive program of lectures\, discussions and workshops. Experts from politics\, self-administration\, business and science present their knowledge on various stages and hubs in more than 300 keynotes\, practical lectures and discussion panels by and with experts from politics\, self-administration\, business and science. More than 500 manufacturers and suppliers will be presenting their products and solutions in a comprehensive exhibition. More than 11\,000 trade visitors from a total of 42 countries are expected. DMEA provides also an extensive career and newcomers program. \nFor JADECARE two of the most relevant conference topics identified in the program were: \n\nOff into the future! Digital competence as a basis for successful digital transformation\, and\nDigitisation strategy for healthcare and nursing
URL:https://jadeclone.med-ip.eu/event/dmea-2023-connecting-digital-health/
LOCATION:Berlin Fair Ground (Messe Süd)\, Messedamm 22\, Berlin\, 14055\, Germany
CATEGORIES:Digital Health Event,European Conference
ATTACH;FMTTYPE=image/jpeg:https://jadeclone.med-ip.eu/wp-content/uploads/2023/01/DMEA23.jpg
ORGANIZER;CN="bvitg e.V. / Messe Berlin":MAILTO:dmea@bvitg.de
END:VEVENT
BEGIN:VEVENT
DTSTART;VALUE=DATE:20221111
DTEND;VALUE=DATE:20221112
DTSTAMP:20260422T232023
CREATED:20220928T081853Z
LAST-MODIFIED:20221111T094606Z
UID:4033-1668124800-1668211199@jadeclone.med-ip.eu
SUMMARY:DigiHealthDay-2022 “Global look at digital health – from the heart of Europe”
DESCRIPTION:JADECARE will be presented at DigiHealthDay-2022\, hosted by European Campus Rottal-Inn of the Deggendorf Institute of Technology as hybrid event [see full programme for session Zoom links]\, an international scientific symposium and workshop series on Digital Health. \nJADECARE will be highlighted by German JA affiliate Bavarian Health and Food Safety Authority (LGL)\, represented onsite by Martina Rimmele in the Afternoon Plenary Session. The impulse talk is titled “Digitally enabled integrated person-centered care: transfer and adoption of good practices in different European contexts in the JADECARE Joint Action”.\n \nDigiHealthDay 2022 is organised and hosted in cooperation with its regional\, national\, international and global partners and sponsors. The third edition and future editions are hosted in collaboration with the World Health Organization’s European Office. 
URL:https://jadeclone.med-ip.eu/event/digihealthday-2022/
LOCATION:European campus Rottal-Inn\, Pfarrkirchen
CATEGORIES:Digital Health Event
ATTACH;FMTTYPE=image/jpeg:https://jadeclone.med-ip.eu/wp-content/uploads/2022/09/DigitalHealth22.jpg
END:VEVENT
BEGIN:VEVENT
DTSTART;TZID=Europe/Berlin:20221108T143000
DTEND;TZID=Europe/Berlin:20221108T170000
DTSTAMP:20260422T232023
CREATED:20221020T093718Z
LAST-MODIFIED:20221020T095303Z
UID:4125-1667917800-1667926800@jadeclone.med-ip.eu
SUMMARY:Taking care of the complex patient: the contribution of JADECARE
DESCRIPTION:Upcoming (free) JADECARE Webinar “Taking care of the complex patient: the contribution of Joint Action on implementation of digitally enabled integrated person-centred care”: The increasing prevalence of chronic diseases and the frequent presence of multimorbid conditions represent a public health priority and a shared challenge present in both the Italian and European contexts: providing efficient\, personalized and integrated care that promotes better quality of services is key to address this challenge. \nTo this end\, the Regional Health Agency\, on behalf of the Region of Tuscany\, participates in the European Joint Action “JADECARE” (Joint Action on implementation of Digitally Enabled integrated person-centered CARE) whose purpose is to contribute to the development of more innovative\, effective and sustainable health care systems by supporting the sharing of some “Good Practices” already in place in other European countries. Therefore\, in accordance with the objectives of the project\, professionals from ARS Tuscany and “Piana di Lucca” District Zone have opted to transfer and implement some components of the Good Practice of the Basque Country in “Piana di Lucca” site. As a result\, a model of taking care of the complex patient that involves the co-presence of a multiprofessional and multidisciplinary team has been outlined and implemented in the “Piana di Lucca” District Zone. \nIn this second event\, which follows the Webinar on presentation of the project that took place in October 2021\, the Regional Health Agency’s objectives are to: \n\nProvide an overview on how the JADECARE project can fit into national and regional health policies\nEmphasise the Tuscany Region’s commitment to supporting European planning\nUpdate health professionals on the status of the project in “Piana di Lucca” District Zone: key point of the implementation\, main results\, achievements\, barriers and challenges\nUpdate health professionals on new “branching activities” in the South-East and Central Local Health Authorities: both Local Health Authorities have shown interest and willingness in transferring into their settings some components of the project developed in the “Piana di Lucca” District Zone.\n\nRegister here
URL:https://jadeclone.med-ip.eu/event/taking-care-of-the-complex-patient-the-contribution-of-jadecare/
LOCATION:Ars Toscana (Tuscany Region\, Italy)
CATEGORIES:Digital Health Event,European Conference,Integrated Care
ATTACH;FMTTYPE=image/jpeg:https://jadeclone.med-ip.eu/wp-content/uploads/2022/10/ARS-Toscana-Webinar_2022-11-08.jpeg
END:VEVENT
BEGIN:VEVENT
DTSTART;TZID=Europe/Berlin:20221026T090000
DTEND;TZID=Europe/Berlin:20221026T170000
DTSTAMP:20260422T232023
CREATED:20221022T152147Z
LAST-MODIFIED:20221022T152328Z
UID:4136-1666774800-1666803600@jadeclone.med-ip.eu
SUMMARY:X-eHealth Final Conference / Second X-eHealth Innovation Day
DESCRIPTION:The X-eHealth project (Exchanging Electronic Health Records in a common framework) will hold its last event on October 26th – the 2nd Innovation Day at Centro Cultural de Belém in Lisbon\, for which interested European eHealth Stakeholders are invited. The 2nd Innovation Day will be a day dedicated to innovation and digital transformation in the European health sector\, namely\, the future of health data exchange in laboratory\, medical images\, discharge letters and rare diseases domains. \nThis event is public and free and will feature international experts who will share their knowledge on eHealth interoperability\, EHR public policies\, as well as the challenges and opportunities for the development of the European Health Data Space. \nOn X-eHealth | 2nd Innovation day page you can find out all the information regarding the agenda and guest speakers.   \nSecure your registration using the following form: Registration Form   \nIf you are unable to attend the event in person\, you can also attend the event online\, for which registrants will receive access details shortly. \nWhile the JADECARE constituency will hold an internal event the same day we are happy supporting the dissemination of this important event dedicated to the future of digital health in Europe\, in particular for the European Health Data Space.
URL:https://jadeclone.med-ip.eu/event/x-ehealth-final-conference-second-x-ehealth-innovation-day/
LOCATION:Centro Cultural de Belém in Lisbon\, Portugal\, Portugal
CATEGORIES:Digital Health Event,European Conference
ATTACH;FMTTYPE=image/jpeg:https://jadeclone.med-ip.eu/wp-content/uploads/2022/10/X-eHealth-Innovation-Day.jpg
END:VEVENT
BEGIN:VEVENT
DTSTART;TZID=Europe/Berlin:20220426T080000
DTEND;TZID=Europe/Berlin:20220428T170000
DTSTAMP:20260422T232023
CREATED:20220126T200124Z
LAST-MODIFIED:20220126T200702Z
UID:3153-1650960000-1651165200@jadeclone.med-ip.eu
SUMMARY:DMEA Connecting Digital Health Fair and Conference
DESCRIPTION:With around 11\,000 trade visitors and 600 exhibitors from 27 countries each year\, DMEA is Europe’s leading event for the digitisation of healthcare. In a program with various modules of congress\, training and networking\, you can learn more about current developments and products\, educate yourself and make ideal contacts in the industry. Look forward to \n\nInspiring keynotes\npractical presentations and discussion panels by and with experts from politics\, self-government\, business and science\nA comprehensive exhibition where manufacturers and suppliers present their products and solutions\nExcursions to hospitals and research institutions\nAn extensive career and junior staff program.\n\nJADECARE will be present in the DMEA program planned by the German Association of Health IT Vendors – bvitg e.V. and its cooperation partners with support from various committees consisting of industry experts.
URL:https://jadeclone.med-ip.eu/event/dmea-connecting-digital-health-fair-and-conference/
LOCATION:Berlin ExpoCenter City\, Messedamm 22\, Berlin\, Berlin\, 14055\, Germany
CATEGORIES:Digital Health Event,European Conference
ATTACH;FMTTYPE=image/jpeg:https://jadeclone.med-ip.eu/wp-content/uploads/2022/01/DMEA-2022-Programme.jpg
ORGANIZER;CN="bvitg e.V.":MAILTO:anja.brysch@bvitg.de
END:VEVENT
END:VCALENDAR