BEGIN:VCALENDAR
VERSION:2.0
PRODID:-//JADECARE - ECPv6.15.20//NONSGML v1.0//EN
CALSCALE:GREGORIAN
METHOD:PUBLISH
X-WR-CALNAME:JADECARE
X-ORIGINAL-URL:https://jadeclone.med-ip.eu
X-WR-CALDESC:Events for JADECARE
REFRESH-INTERVAL;VALUE=DURATION:PT1H
X-Robots-Tag:noindex
X-PUBLISHED-TTL:PT1H
BEGIN:VTIMEZONE
TZID:Europe/Berlin
BEGIN:DAYLIGHT
TZOFFSETFROM:+0100
TZOFFSETTO:+0200
TZNAME:CEST
DTSTART:20200329T010000
END:DAYLIGHT
BEGIN:STANDARD
TZOFFSETFROM:+0200
TZOFFSETTO:+0100
TZNAME:CET
DTSTART:20201025T010000
END:STANDARD
BEGIN:DAYLIGHT
TZOFFSETFROM:+0100
TZOFFSETTO:+0200
TZNAME:CEST
DTSTART:20210328T010000
END:DAYLIGHT
BEGIN:STANDARD
TZOFFSETFROM:+0200
TZOFFSETTO:+0100
TZNAME:CET
DTSTART:20211031T010000
END:STANDARD
BEGIN:DAYLIGHT
TZOFFSETFROM:+0100
TZOFFSETTO:+0200
TZNAME:CEST
DTSTART:20220327T010000
END:DAYLIGHT
BEGIN:STANDARD
TZOFFSETFROM:+0200
TZOFFSETTO:+0100
TZNAME:CET
DTSTART:20221030T010000
END:STANDARD
BEGIN:DAYLIGHT
TZOFFSETFROM:+0100
TZOFFSETTO:+0200
TZNAME:CEST
DTSTART:20230326T010000
END:DAYLIGHT
BEGIN:STANDARD
TZOFFSETFROM:+0200
TZOFFSETTO:+0100
TZNAME:CET
DTSTART:20231029T010000
END:STANDARD
BEGIN:DAYLIGHT
TZOFFSETFROM:+0100
TZOFFSETTO:+0200
TZNAME:CEST
DTSTART:20240331T010000
END:DAYLIGHT
BEGIN:STANDARD
TZOFFSETFROM:+0200
TZOFFSETTO:+0100
TZNAME:CET
DTSTART:20241027T010000
END:STANDARD
END:VTIMEZONE
BEGIN:VEVENT
DTSTART;VALUE=DATE:20230522
DTEND;VALUE=DATE:20230525
DTSTAMP:20260422T222356
CREATED:20221101T182850Z
LAST-MODIFIED:20230522T185229Z
UID:4145-1684713600-1684972799@jadeclone.med-ip.eu
SUMMARY:23rd International Conference on Integrated Care (ICIC23)
DESCRIPTION:The 23rd International Conference on Integrated Care (ICIC23) in partnership with the Flanders Agency for Health and Care and Visit Flanders will take place at Flanders Meeting & Convention Center Antwerp\, Flanders from 22-24 May 2023. With the overarching theme ‘Care in action: how to work together\, a participatory approach’\, the conference will bring together leaders\, researchers\, clinicians\, managers\, citizens\, patients and caregivers from around the world who are engaged in the design and delivery of integrated health and social care. \nJADECARE will be present at the event in the format of a dedicated JADECARE workshop\, as participant and contributor in an EC hosted workshop for EU funded projects and an oral presentation by one of the Next Adopters (Andalusia):\n \nJADECARE has been accepted for hosting a workshop under the objective to share the results of the implementation process of JADECARE and explore the key elements to ensure the sustainability of local good practices beyond the Joint Action. In this regard\, the results of the implementation process of JADECARE will be presented and the key elements to support the sustainability of good practice transfer beyond the Joint Action will be explored. Furthermore\, the workshop presents the JADECARE Sustainability strategy that sets three core elements: policy environment\, ownership of sustainability and culture of collaboration and consensus seeking. In addition\, two Next Adopters (NAs) will present the results of the implementation of their local good practices and their work to build sustainability beyond JADECARE. Finally\, discussion  among attendees will be promoted to highlight the key elements to ensure sustainability and scale up of local good practices beyond the project.  \nIn addition\, JADECARE has been lately invited for participating and contributing in a workshop on learnings by EU funded projects (hosted by European Commission).\n \nMoreover [in Session 4.1 Care Transitions]\, the JADECARE Pilot in Andalusia will be presented: Improving healthcare at home for complex chronic patients (CCPs) in Andalusia. Abstract: A Complex Chronic Disease is a condition involving multiple morbidities that requires the attention of multiple health care providers and\, therefore\, a holistic approach. The Andalusian Public Health System is responsible for the provision of healthcare and public health services to the Andalusian population (8.5 million inhabitants)\, where around 200000 complex chronic patients (CCPs)\, with chronic heart failure (CHF) and chronic obstructive pulmonary disease (COPD) have been identified and prioritized. Healthcare at home for CCPs is considered a key element that facilitates patient follow-up\, can avoid emergency episodes\, promoting patient empowerment. The Andalusian participation in the EU Joint Action JADECARE “joint action on implementation of digitally enabled integrated person-centered care” (GA 951442) focuses on improving healthcare at home for CCPs with CHF and COPD. The development\, implementation and testing of a Centralised System for Proactive Follow-up (SCSP) of chronic patients is being monitored\, as well as the tele-referral service which is being expanded. The SCSP is supported by National funds as well (Servicio para la implantación de una solución corporativa para el seguimiento proactivode pacientes crónicos en el sistema sanitario público de Andalucía (Expdte. 039/21-SP.). The aim of the JADECARE Andalusian pilot is to improve health status and quality of life of CCPs by enhancing home healthcare proactive follow-up and its evaluation. \nOverall Conference Themes:  \n\nChange management implementation: macro\, meso and micro level\nPerson-centred care: focus on integration of goals and needs\nCollaboration : factor for successful implementation of integrated care\nEngaging everybody: caring neighbourhoods and compassionate communities\nPopulation health approach: leverage for integrated care\n\n\n\n\n\n\n\nThe scientific committee for this conference has been established from international experts who are leading in the field of Integrated Care. ICIC23 is co-designed with patients and caregivers and achieves Patients Included designation. \n\n\n\n\n\n\nThe conference will operate as a hybrid event. While we are very excited to be physically together in Antwerp\, the hybrid formal means that people who do not wish to travel next May can join and present at the conference via video link and present their paper digitally\, however a delegate fee and registration will still be required.
URL:https://jadeclone.med-ip.eu/event/23rd-international-conference-on-integrated-care-icic23/
LOCATION:Flanders Meeting & Convention Center\, Koningin Astridplein 20-26\, Antwerp\, Flanders\, 2018\, Belgium
CATEGORIES:European Conference,Integrated Care,Public Health
ATTACH;FMTTYPE=image/jpeg:https://jadeclone.med-ip.eu/wp-content/uploads/2022/11/ICIC-2023-Antwerp-Flanders.jpeg
ORGANIZER;CN="IFIC - International Foundation for Integrated Care":MAILTO:miriamgalvin@integratedcarefoundation.org
END:VEVENT
BEGIN:VEVENT
DTSTART;TZID=Europe/Berlin:20221108T143000
DTEND;TZID=Europe/Berlin:20221108T170000
DTSTAMP:20260422T222356
CREATED:20221020T093718Z
LAST-MODIFIED:20221020T095303Z
UID:4125-1667917800-1667926800@jadeclone.med-ip.eu
SUMMARY:Taking care of the complex patient: the contribution of JADECARE
DESCRIPTION:Upcoming (free) JADECARE Webinar “Taking care of the complex patient: the contribution of Joint Action on implementation of digitally enabled integrated person-centred care”: The increasing prevalence of chronic diseases and the frequent presence of multimorbid conditions represent a public health priority and a shared challenge present in both the Italian and European contexts: providing efficient\, personalized and integrated care that promotes better quality of services is key to address this challenge. \nTo this end\, the Regional Health Agency\, on behalf of the Region of Tuscany\, participates in the European Joint Action “JADECARE” (Joint Action on implementation of Digitally Enabled integrated person-centered CARE) whose purpose is to contribute to the development of more innovative\, effective and sustainable health care systems by supporting the sharing of some “Good Practices” already in place in other European countries. Therefore\, in accordance with the objectives of the project\, professionals from ARS Tuscany and “Piana di Lucca” District Zone have opted to transfer and implement some components of the Good Practice of the Basque Country in “Piana di Lucca” site. As a result\, a model of taking care of the complex patient that involves the co-presence of a multiprofessional and multidisciplinary team has been outlined and implemented in the “Piana di Lucca” District Zone. \nIn this second event\, which follows the Webinar on presentation of the project that took place in October 2021\, the Regional Health Agency’s objectives are to: \n\nProvide an overview on how the JADECARE project can fit into national and regional health policies\nEmphasise the Tuscany Region’s commitment to supporting European planning\nUpdate health professionals on the status of the project in “Piana di Lucca” District Zone: key point of the implementation\, main results\, achievements\, barriers and challenges\nUpdate health professionals on new “branching activities” in the South-East and Central Local Health Authorities: both Local Health Authorities have shown interest and willingness in transferring into their settings some components of the project developed in the “Piana di Lucca” District Zone.\n\nRegister here
URL:https://jadeclone.med-ip.eu/event/taking-care-of-the-complex-patient-the-contribution-of-jadecare/
LOCATION:Ars Toscana (Tuscany Region\, Italy)
CATEGORIES:Digital Health Event,European Conference,Integrated Care
ATTACH;FMTTYPE=image/jpeg:https://jadeclone.med-ip.eu/wp-content/uploads/2022/10/ARS-Toscana-Webinar_2022-11-08.jpeg
END:VEVENT
BEGIN:VEVENT
DTSTART;TZID=Europe/Berlin:20220925T080000
DTEND;TZID=Europe/Berlin:20220927T170000
DTSTAMP:20260422T222356
CREATED:20220126T200855Z
LAST-MODIFIED:20220505T140211Z
UID:3150-1664092800-1664298000@jadeclone.med-ip.eu
SUMMARY:EFPC 2022 Conference "Integrated Community Care: a new opportunity for Primary Care"
DESCRIPTION:The conference scientific committee invites submissions of abstracts (in English language only) for presentations related to the scope and purpose of the conference. Please check the list of EFPC 2022 Ghent Conference – Themes. \nDeadline for submission: 1 May 2022 \nSubmissions should follow one of the following formats: \n\nResearch abstracts: These presentations will provide the results\, completed or in advanced in-progress form\, of original research projects. Papers related to PhD projects\, either completed or in progress\, are especially encouraged. The selected abstracts will be presented via a max 12 min powerpoint presentation and discussed within workshops that are moderated by key-experts in the specific theme.\n\nPolicy debate posters: These posters describe significant developments in policy (whether governmental\, organisational or any other) that affects primary care associated with the themes of the conference. In particularly national\, regional or local policymakers are invited to provide new policy developments. Posters need clear statements for debate. All selected posters will be presented/defended in specific parallel sessions with a 15 minutes time-slot for each poster. These sessions are located in innovative settings\, such as “debate corners”\, animated by an expert facilitator.\n\nVideo presentations: Projects and developments focusing on practice-oriented questions and reporting on recent experiences and innovations in primary care. These presentations should present case descriptions of primary care on the national\, regional or local level. The selected videos will be displayed prominently with non-stop shows during the conference (length should be around 3 minutes and not exceeding the maximum of 5 minutes) and will be presented/defended in specific parallel sessions with a maximum of 15 minutes time-slot for each video.
URL:https://jadeclone.med-ip.eu/event/efpc-2022-conference-integrated-community-care-a-new-opportunity-for-primary-care/
LOCATION:Ghent\, Belgium\, Ghent\, Flanders\, Belgium
CATEGORIES:Call for Papers (open),European Conference,Integrated Care,Public Health
ATTACH;FMTTYPE=image/jpeg:https://jadeclone.med-ip.eu/wp-content/uploads/2022/01/EFPC-2022-CfP.jpg
END:VEVENT
BEGIN:VEVENT
DTSTART;TZID=Europe/Berlin:20220523T080000
DTEND;TZID=Europe/Berlin:20220525T170000
DTSTAMP:20260422T222356
CREATED:20220126T185442Z
LAST-MODIFIED:20220509T121732Z
UID:3134-1653292800-1653498000@jadeclone.med-ip.eu
SUMMARY:22nd International Conference on Integrated Care
DESCRIPTION:JADECARE will be represented */** at the 22nd International Conference on Integrated Care which will take place in Odeon in Odense\, Denmark\, from 23 – 25 May 2022.  The conference is a partnership with Healthcare Denmark in cooperation with Odense University Hospital\, University of Southern Denmark (SDU)\, Municipality of Odense\, Campus Odense and Destination FYN. Denmark is among international frontrunners when it comes to integrated healthcare services. \n\nA coherent and integrated healthcare system is key to solving the demographic challenges and reduce patient length of stay at hospitals. A high degree of coherence means that Denmark can address newly diagnosed cancers with clinical pathways\, which connect hospitals\, clinics\, GPs and the patients. This has already led to remarkable progress in Danish cancer survival.\nA coherent and integrated healthcare system with a high degree of digitalization enables real-time sharing of electronic data and makes it possible to initiate early diagnostics and address chronic diseases in new ways\, where the patients are empowered and involved in handling their own disease.\nElectronic communication and sharing of information enable municipalities\, home care staff and the hospital to support older people to stay in their own homes as long as possible. As a result\, the patients experience fewer admissions and shorter length of stays at hospital\, and the risk of frailty\, leading to long hospital admissions\, is drastically reduced.\n\n* JADECARE – SCIROCCO Exchange – VIGOUR “A workshop to explore the challenges and opportunities for transferring good practices\, build capacity and scale up integrated care” (Monday\, 23 May\, 13:00 – 14:00\, Lunch Session MLW.1): The Joint workshop will facilitate the discussion to analyse the challenges and opportunities of transferring Good Practices by these projects providing technical assistance to health authorities in transferring\, developing capacity and scaling-up integrated care under the EU Health Programme: \n\nJADECARE Joint Action reinforces the capacity of health authorities to address the transition to digitally-enabled\, integrated\, person-centred care. Four “Early Adopters” of original Good Practices (GP) support transfer of features into the systems of 21 “Next Adopters”.\nSCIROCCO Exchange supports the readiness and capacity of health and social care authorities for the adoption and scaling-up of IC by developing a Knowledge Management Hub.\nVIGOUR backs health authorities on their systems transformation by means of a context sensitive support programme guiding each authority through staged process of IC ambition focussing\, maturity self-assessment and operational implementation planning.\n\n** JADECARE Workshop “Transfer and adoption of digitally enabled integrated person-centred care good practices: which challenges and key elements need to be addressed for a successful transfer?” (Tuesday\, 24 May\, 16:30 – 18:00\, Parallel Session 5i): This workshop explores the challenges and key elements to be addressed when transferring Good Practices (GP) to heterogeneous health systems with different needs\, aims and scopes. It features the core elements of the four GP of JADECARE (Joint Action on implementation of Digitally Enabled integrated person-centred CARE)\, concerning integrated care\, chronic conditions\, self-care\, prevention and population health that are being transferred and adapted to the contexts of 23 Next Adopters (NA). GP are: Basque Health strategy in ageing and chronicity: integrated care (Spain)\, Catalan open innovation hub on ICT-supported integrated care services for chronic patients (Spain)\, OptiMedis Model-Population-based integrated care (Germany)\, Digital roadmap towards an integrated health care sector (Denmark). It will also highlight the experience of two NA: Portugal and Estonia. \nThe conference will operate as a hybrid event. While we are very excited to be physically together in Odense\, the hybrid formal means that people who do not wish to travel next May can join and present at the conference via video link and present their paper digitally\, however a delegate fee and registration will still be required.
URL:https://jadeclone.med-ip.eu/event/22nd-international-conference-on-integrated-care/
LOCATION:ODEON in Odense\, Denmark\, Odeons Kvarter 1\, Odense C\, Region of Southern Denmark\, 5000\, Denmark
CATEGORIES:Integrated Care,Public Health
ATTACH;FMTTYPE=image/jpeg:https://jadeclone.med-ip.eu/wp-content/uploads/2022/01/ICIC-2022_Banner_fit.jpg
ORGANIZER;CN="IFIC - International Foundation for Integrated Care":MAILTO:miriamgalvin@integratedcarefoundation.org
END:VEVENT
BEGIN:VEVENT
DTSTART;TZID=Europe/Berlin:20211109T100000
DTEND;TZID=Europe/Berlin:20211112T193000
DTSTAMP:20260422T222356
CREATED:20211003T180249Z
LAST-MODIFIED:20220408T081419Z
UID:2434-1636452000-1636745400@jadeclone.med-ip.eu
SUMMARY:EASyM European Association of Systems Medicine 3rd Conference
DESCRIPTION:UPDATE: According to the European Association of Systems Medicine\, the 3rd EASYM Conference has been postponed to Spring 2022. The precise dates of the event\, to be held in Barcelona\, will be announced. \n(maintained were 2021 EASYM ACADEMIC EVENT & GENERAL ASSEMBLY: The training program (tutorials) run on 9th November 2021 from 09:00 to 16:30\, followed by one-hour academic session and the day ended with the General Assembly) \nEASyM 3rd Meeting 2022 (postponed from 2021): “Systems approaches to Global Challenges”: EASYM (European Association of Systems Medicine) was founded in September 2015 and therefore celebrated its 5th birthday last year. Many things have happened in these past five years. The Systems Medicine approaches have been broadly incorporated in the academic arena and its principles are progressively embedded into ongoing translational research programs. They have led to a better understanding of disease mechanisms\, as well as to better capture the nature of disease interactions\, paving the way for new therapies. Moreover\, Systems Medicine is contributing to define novel strategies aiming at optimizing health value generation. \nFor Systems Medicine to be able to radically change health care still large steps have to be taken. This is why EASYM thinks it is important to bring together all stakeholders in the field (biologists\, computational scientists\, clinical researchers\, practicing clinicians and managers) to discuss and work together on methodology\, interpretation of data and implementation of results in clinical care. \nTo be able to bring these stakeholders together\, EASYM considers pivotal to organize a 2-yearly networking event with a strong program to inspire and to give people the opportunity to discuss and brainstorm together. Furthermore\, EASYM wants to play a role in training scientists working in the field of Systems Medicine and educating clinicians to promote clinical practicalities of the approach. Finally\, EASYM wants to include young scientists in these efforts and has therefore installed a junior board to advise the board what they need to be successful in the field. \n\n[28 April 2022] Josep Roca (IDIBAPS) was invited to give a talk in a mini symposium “A Systems Medicine Approach to Multimorbidity: toward personalized care for chronic patients” in the afternoon\n[29 April 2022] In the Clinical & Health policy section Esteban de Manuel Keenoy presents “Joint Action (JA) on implementation of digitally enabled integrated person-centred care – JADECARE”
URL:https://jadeclone.med-ip.eu/event/easym-3rd-meeting-systems-approaches-to-global-challenges/
LOCATION:Online Congress
CATEGORIES:Integrated Care,Public Health
ATTACH;FMTTYPE=image/png:https://jadeclone.med-ip.eu/wp-content/uploads/2021/10/EASyM-2021-11-10-12.png
ORGANIZER;CN="Viajes El Corte Ingl%C3%A9s%2C S.A. - Congresos Cient%C3%ADfico M%C3%A9dicos":MAILTO:congresseasym@viajeseci.es
END:VEVENT
BEGIN:VEVENT
DTSTART;TZID=Europe/Berlin:20210909T100000
DTEND;TZID=Europe/Berlin:20210909T190000
DTSTAMP:20260422T222356
CREATED:20211005T161651Z
LAST-MODIFIED:20211005T165330Z
UID:2476-1631181600-1631214000@jadeclone.med-ip.eu
SUMMARY:Person-centred Integrated Care International Conference
DESCRIPTION:The international conference on Person-Centred Integrated Care in Viljanen County\, Estonia was titled “MARTA\, where you at?” and devoted to the presentation and discussion of the results of the Vijandi PAIK Integrated Care Service Initiative project in attendance of the Healthcare and Social Support ministers of the Estonian government. The conference was co-organised by the Vijandi Hospital and the Estonian Hospital Association (voluntary union established for representing the common interests in health care matters and arranging co-operation of hospitals). \nJosep Roca´\, IDIBAPS\, presented on invitation ICT solutions to support human-centered comprehensive services in Catalonia in the context of JADECARE: \n\nDS3 -Digitalization for the Sustainability of the Healthcare System (DS3)\, Sistema de Salut de Catalunya\nINCASyM–Integrated Care and Systems Medicine Platform (https://www.incasym.com/). HCB-IDIBAPS\nCatalan Open Innovation Hub on ICT-supported Integrated Care Services
URL:https://jadeclone.med-ip.eu/event/person-centred-integrated-care-international-conference/
LOCATION:Estonian Traditional Music Center\, Viljanen County\, Estonia\, Viljanen County\, Estonia
CATEGORIES:European Conference,Integrated Care
ATTACH;FMTTYPE=image/png:https://jadeclone.med-ip.eu/wp-content/uploads/2021/10/Estonia-PAIK-2021-09-09-Viljandi.png
END:VEVENT
BEGIN:VEVENT
DTSTART;TZID=Europe/Berlin:20210906T100000
DTEND;TZID=Europe/Berlin:20210910T190000
DTSTAMP:20260422T222356
CREATED:20210722T144515Z
LAST-MODIFIED:20210910T081500Z
UID:2293-1630922400-1631300400@jadeclone.med-ip.eu
SUMMARY:The VIII Digital Congress on Digital health\, "The San Sebastian International Digital Health Congress (e-health Donostia)"
DESCRIPTION:The San Sebastian International Digital Health Congress has been held continuously since 2014. In 2021\, its eighth edition approaches the theme of Value-Based Digital Health: The recent health crisis has caused a global crisis\, affecting society in all areas. We must take advantage of what we have learned to consolidate value-based practices and address the opportunities for improvement that have been identified. \nOne of the priorities identified was undoubtedly the need for a digital transformation in health. Digital Health is a reality in our environment\, but there is still a long way to go. We must reflect on whether the current scenario is adapted to the present and future needs of users\, and what would be the most appropriate strategies to meet these needs in the coming years. The new virtual format of the congress since 2020 facilitates the attendance of people from all over the world\, allowing the sharing of experiences and lessons learned from different environments. By working together\, we can move faster and go further.
URL:https://jadeclone.med-ip.eu/event/the-viii-digital-congress-on-digital-health-the-san-sebastian-international-digital-health-congress-e-health-donostia/
LOCATION:San Sebastian\, Basque Country\, Spain
CATEGORIES:Integrated Care
ATTACH;FMTTYPE=image/png:https://jadeclone.med-ip.eu/wp-content/uploads/2021/07/portada-congreso-asd_signo-552.png
END:VEVENT
BEGIN:VEVENT
DTSTART;TZID=Europe/Berlin:20210511T110000
DTEND;TZID=Europe/Berlin:20210520T190000
DTSTAMP:20260422T222356
CREATED:20210312T122637Z
LAST-MODIFIED:20210826T123822Z
UID:652-1620730800-1621537200@jadeclone.med-ip.eu
SUMMARY:ICIC21 “Realising the true value of Integrated Care”
DESCRIPTION:In 2021 the 21st International Conference on Integrated Care (ICIC21) “Realising the true value of Integrated Care” took place as a virtual conference\, co-hosted by IFIC hubs and collaborative centres IFIC Scotland\, IFIC Australia\, IFIC Ireland\, IFIC Canada and IFIC Latin America. The conference ran across the whole month of May taking place across various time zones. \n\n\n\n\n\n\nPresenters pre-record their presentations and were available to all delegates to access in their own time. During the live sessions successful authors were asked to reduce the time of their presentation to key points and sessions were ran interactively hosted by two or more chairs leading a discussion with paper presenters. This was much more enjoyable for the viewer and more engaging from the audience for presenters by using this format. \n\n\n\n\n\n\nWorkshops were designed with the virtual audience in mind and for making the best use of digital technology and provides the best learning experience for attendees.
URL:https://jadeclone.med-ip.eu/event/icic2021-realising-the-true-value-of-integrated-care/
LOCATION:ICIC Virtual Conference
CATEGORIES:Integrated Care,Public Health
ATTACH;FMTTYPE=image/jpeg:https://jadeclone.med-ip.eu/wp-content/uploads/2021/03/ICIC-2021-Value-of-Integrated-Care.jpg
END:VEVENT
END:VCALENDAR